BEGIN:VCALENDAR
VERSION:2.0
PRODID:-//Lulu's Farm - ECPv5.1.6//NONSGML v1.0//EN
CALSCALE:GREGORIAN
METHOD:PUBLISH
X-WR-CALNAME:Lulu's Farm
X-ORIGINAL-URL:https://lulusfarm.com
X-WR-CALDESC:Events for Lulu's Farm
BEGIN:VTIMEZONE
TZID:America/Denver
BEGIN:DAYLIGHT
TZOFFSETFROM:-0700
TZOFFSETTO:-0600
TZNAME:MDT
DTSTART:20190310T090000
END:DAYLIGHT
BEGIN:STANDARD
TZOFFSETFROM:-0600
TZOFFSETTO:-0700
TZNAME:MST
DTSTART:20191103T080000
END:STANDARD
END:VTIMEZONE
BEGIN:VEVENT
DTSTART;TZID=America/Denver:20190616T020000
DTEND;TZID=America/Denver:20190616T110000
DTSTAMP:20260423T082841
CREATED:20190609T033621Z
LAST-MODIFIED:20190608T224554Z
UID:3155-1560650400-1560682800@lulusfarm.com
SUMMARY:Green Mountain Grill Event
DESCRIPTION:asdfafdasdfasdfa
URL:https://lulusfarm.com/event/green-mountain-grill-event/
LOCATION:Mile High Stadium\, 1701 Bryant St\, Dewnver\, CO\, 80204\, United States
CATEGORIES:Events,Uncategoriezed
ATTACH;FMTTYPE=image/jpeg:https://lulusfarm.com/wp-content/uploads/2019/06/GMG.jpg
END:VEVENT
END:VCALENDAR