BEGIN:VCALENDAR
VERSION:2.0
PRODID:-//Lulu's Farm - ECPv5.1.6//NONSGML v1.0//EN
CALSCALE:GREGORIAN
METHOD:PUBLISH
X-WR-CALNAME:Lulu's Farm
X-ORIGINAL-URL:https://lulusfarm.com
X-WR-CALDESC:Events for Lulu's Farm
BEGIN:VTIMEZONE
TZID:America/Denver
BEGIN:DAYLIGHT
TZOFFSETFROM:-0700
TZOFFSETTO:-0600
TZNAME:MDT
DTSTART:20190310T090000
END:DAYLIGHT
BEGIN:STANDARD
TZOFFSETFROM:-0600
TZOFFSETTO:-0700
TZNAME:MST
DTSTART:20191103T080000
END:STANDARD
END:VTIMEZONE
BEGIN:VEVENT
DTSTART;TZID=America/Denver:20190921T130000
DTEND;TZID=America/Denver:20190921T170000
DTSTAMP:20260423T050335
CREATED:20190731T161844Z
LAST-MODIFIED:20190731T162054Z
UID:3941-1569070800-1569085200@lulusfarm.com
SUMMARY:Lulu's Farms Garden Tractor Pull
DESCRIPTION:Join us at Lulu’s Farm for a day of serious fun for the whole family. Enjoy watching a free garden tractor pull with 100 horsepower tractors\, double engine tractors\, motorcycle power tractors\, modified tractors\, stock tractors and many many more.
URL:https://lulusfarm.com/event/lulus-farms-garden-tractor-pull/
LOCATION:Lulu’s Farm\, 13201 E 144th Ave\, Brighton\, CO\, 80601\, United States
CATEGORIES:Events
ATTACH;FMTTYPE=image/jpeg:https://lulusfarm.com/wp-content/uploads/2019/07/lulus-Farm-Tractor-Pull.jpg
END:VEVENT
END:VCALENDAR